BEGIN:VCALENDAR
VERSION:2.0
PRODID:-//Cleveland Shetland Sheepdog Club - ECPv6.15.18//NONSGML v1.0//EN
CALSCALE:GREGORIAN
METHOD:PUBLISH
X-WR-CALNAME:Cleveland Shetland Sheepdog Club
X-ORIGINAL-URL:https://www.clevelandshetlandsheepdogclub.com
X-WR-CALDESC:Events for Cleveland Shetland Sheepdog Club
REFRESH-INTERVAL;VALUE=DURATION:PT1H
X-Robots-Tag:noindex
X-PUBLISHED-TTL:PT1H
BEGIN:VTIMEZONE
TZID:America/New_York
BEGIN:DAYLIGHT
TZOFFSETFROM:-0500
TZOFFSETTO:-0400
TZNAME:EDT
DTSTART:20240310T070000
END:DAYLIGHT
BEGIN:STANDARD
TZOFFSETFROM:-0400
TZOFFSETTO:-0500
TZNAME:EST
DTSTART:20241103T060000
END:STANDARD
BEGIN:DAYLIGHT
TZOFFSETFROM:-0500
TZOFFSETTO:-0400
TZNAME:EDT
DTSTART:20250309T070000
END:DAYLIGHT
BEGIN:STANDARD
TZOFFSETFROM:-0400
TZOFFSETTO:-0500
TZNAME:EST
DTSTART:20251102T060000
END:STANDARD
BEGIN:DAYLIGHT
TZOFFSETFROM:-0500
TZOFFSETTO:-0400
TZNAME:EDT
DTSTART:20260308T070000
END:DAYLIGHT
BEGIN:STANDARD
TZOFFSETFROM:-0400
TZOFFSETTO:-0500
TZNAME:EST
DTSTART:20261101T060000
END:STANDARD
BEGIN:DAYLIGHT
TZOFFSETFROM:-0500
TZOFFSETTO:-0400
TZNAME:EDT
DTSTART:20270314T070000
END:DAYLIGHT
BEGIN:STANDARD
TZOFFSETFROM:-0400
TZOFFSETTO:-0500
TZNAME:EST
DTSTART:20271107T060000
END:STANDARD
END:VTIMEZONE
BEGIN:VTIMEZONE
TZID:UTC
BEGIN:STANDARD
TZOFFSETFROM:+0000
TZOFFSETTO:+0000
TZNAME:UTC
DTSTART:20240101T000000
END:STANDARD
END:VTIMEZONE
BEGIN:VEVENT
DTSTART;TZID=America/New_York:20260408T090000
DTEND;TZID=America/New_York:20260520T180000
DTSTAMP:20260423T155413
CREATED:20260323T155852Z
LAST-MODIFIED:20260323T155852Z
UID:620-1775638800-1779300000@www.clevelandshetlandsheepdogclub.com
SUMMARY:AKC LICENSED HERDING TESTS AND TRIALS - Entries Open
DESCRIPTION:OFFICIAL AMERICAN KENNEL CLUB HERDING TEST/TRIAL ENTRY FORM \nENTRIES OPEN: Wednesday\, April 8\, 2026 at 9:00 a.m. (Entries received before April 8 will be returned.)\nPreference will be given to shelties till April 22th. Entries for other breeds will be placed on wait list in order received until entries close. \nENTRIES CLOSE: 6:00 PM\, Wednesday\, May 20\, 2026 at the Herding\nTest/Trial Secretary’s Office after which time entries cannot be accepted\, canceled\, altered or substituted.\nComputerized drawing for running order will be held at the Herding Secretary’s (Barb Schmauder 2650\nWindy Hill Dr. Pepper Pike\, OH 44124) on Wednesday\, May 20\, 2026 at 8:00 PM
URL:https://www.clevelandshetlandsheepdogclub.com/event/akc-licensed-herding-tests-and-trials-entries-open/
LOCATION:OH
CATEGORIES:Herding
ORGANIZER;CN="Cleveland Shetland Sheepdog Club":MAILTO:csscakc@gmail.com
END:VEVENT
BEGIN:VEVENT
DTSTART;VALUE=DATE:20251209
DTEND;VALUE=DATE:20251210
DTSTAMP:20260423T155413
CREATED:20250710T204902Z
LAST-MODIFIED:20250710T204922Z
UID:605-1765238400-1765324799@www.clevelandshetlandsheepdogclub.com
SUMMARY:December Meeting and Christmas Party
DESCRIPTION:
URL:https://www.clevelandshetlandsheepdogclub.com/event/october-annual-meeting-and-election-of-board/
LOCATION:OH
END:VEVENT
BEGIN:VEVENT
DTSTART;VALUE=DATE:20251014
DTEND;VALUE=DATE:20251015
DTSTAMP:20260423T155413
CREATED:20250710T205005Z
LAST-MODIFIED:20250710T205005Z
UID:608-1760400000-1760486399@www.clevelandshetlandsheepdogclub.com
SUMMARY:October Annual Meeting and Election of Board
DESCRIPTION:
URL:https://www.clevelandshetlandsheepdogclub.com/event/october-annual-meeting-and-election-of-board-2/
LOCATION:OH
END:VEVENT
BEGIN:VEVENT
DTSTART;VALUE=DATE:20250905
DTEND;VALUE=DATE:20250908
DTSTAMP:20260423T155413
CREATED:20250710T204833Z
LAST-MODIFIED:20250710T204833Z
UID:603-1757030400-1757289599@www.clevelandshetlandsheepdogclub.com
SUMMARY:CSSC Agility Trial
DESCRIPTION:
URL:https://www.clevelandshetlandsheepdogclub.com/event/cssc-agility-trial-3/
LOCATION:OH
END:VEVENT
BEGIN:VEVENT
DTSTART;VALUE=DATE:20250815
DTEND;VALUE=DATE:20250820
DTSTAMP:20260423T155413
CREATED:20250710T204804Z
LAST-MODIFIED:20250710T204804Z
UID:601-1755216000-1755647999@www.clevelandshetlandsheepdogclub.com
SUMMARY:CSSC Agility Trial
DESCRIPTION:
URL:https://www.clevelandshetlandsheepdogclub.com/event/cssc-agility-trial-2/
LOCATION:OH
END:VEVENT
BEGIN:VEVENT
DTSTART;VALUE=DATE:20250812
DTEND;VALUE=DATE:20250813
DTSTAMP:20260423T155413
CREATED:20250710T204731Z
LAST-MODIFIED:20250710T204731Z
UID:599-1754956800-1755043199@www.clevelandshetlandsheepdogclub.com
SUMMARY:August Meeting
DESCRIPTION:
URL:https://www.clevelandshetlandsheepdogclub.com/event/august-meeting/
LOCATION:OH
END:VEVENT
BEGIN:VEVENT
DTSTART;TZID=UTC:20250712T070000
DTEND;TZID=UTC:20250712T180000
DTSTAMP:20260423T155413
CREATED:20250525T191719Z
LAST-MODIFIED:20250525T191719Z
UID:542-1752303600-1752343200@www.clevelandshetlandsheepdogclub.com
SUMMARY:AKC National Owner-Handled Series
DESCRIPTION:AKC National Owner-Handled Series\n(Remember to check the box near the bottom of the entry form)\nInformation & Entry Form\nThe AKC National Owner-Handled Series is a non-titling competition for dogs that are exhibited by their\nowners that are not professional handlers.\nExhibitors must declare their dog is Owner-Handled eligible at the time of entry on the entry form.\nDogs entered in the Amateur-Owner-Handler class will automatically be marked as eligible to compete\nin the NOHS.\nEligible dogs will be identified by an asterisk in the judge’s book\, steward’s book & the catalog. Dogs must\nbe handled throughout the breed level competition for the regular show by an eligible owner.\nProfessional handlers*\, household members and current assistants** to professional handlers may not\nexhibit the dog in any NOHS competition during the entire show. For a detailed description of the National\nOwner-Handled Series\, please visit the AKC website NOHS pages at: \nNational Owner-Handled Series \n\n*Professional handlers are defined as any person who belongs or has belonged to a professional handlers’\norganization\, distributed rate cards\, or otherwise advertised or represented themselves as handling dogs\nfor pay within the last five years.\n**A current assistant is defined as anyone employed by a professional handler on a full-time basis or\nassisting a professional handler at the show or any time during the cluster/weekend. Current assistants\nthat are eligible to compete in Junior Showmanship (meet age & amateur status requirements) may\nparticipate in NOHS. \n  \n  \nEntry Fees\n(There is no Recording Fee or Event Service Fee for Junior Showmanship\,\nSweepstakes\, Futurities\, Brace/Team\, Multi-Dog Classes or Special Attractions)\n(Entry Fee Includes $.50 AKC Recording Fee First Entry Only. \n$3.00 AKC Event Service Fee First Entry & $3.50 AKC Event Service Fee for Each Additional Entry)\nFirst Entry of a Dog Unless Otherwise Specified…………………………………………………………….. $32.00\nEach Additional Entry of the Same Dog Unless Otherwise Specified ………………………………… $25.00\nPuppy Classes as a First Entry…………………………………………………………………………………….. $25.00\nBred by Exhibitor Classes as a First Entry……………………………………………………………………… $27.00\nVeteran Classes as a First Entry…………………………………………………………………………………… $25.00\nSweepstakes Classes…………………………………………………………………………………………………. $25.00 \n  \nLIMITED TO 100 ENTRIES \nEntries Close at Superintendent’s Office at 12:00 NOON\, WEDNESDAY\, JUNE 25\, 2025\, or when the numerical\nlimit has been reached\, after which time entries cannot be accepted\, cancelled or substituted\, except as provided\nfor in Chapter 11\, Section 6 of the Dog Show Rules.
URL:https://www.clevelandshetlandsheepdogclub.com/event/akc-national-owner-handled-series/
LOCATION:Bill Stanton Community Park\, 5585 Chapel Rd\, Madison\, OH\, 44057\, United States
CATEGORIES:AKC National Owner-Handled Series
ORGANIZER;CN="Cleveland Shetland Sheepdog Club":MAILTO:csscakc@gmail.com
END:VEVENT
BEGIN:VEVENT
DTSTART;VALUE=DATE:20250711
DTEND;VALUE=DATE:20250712
DTSTAMP:20260423T155413
CREATED:20250710T204632Z
LAST-MODIFIED:20250710T204632Z
UID:595-1752192000-1752278399@www.clevelandshetlandsheepdogclub.com
SUMMARY:CSSC Agility Trial
DESCRIPTION:
URL:https://www.clevelandshetlandsheepdogclub.com/event/cssc-agility-trial/
LOCATION:OH
END:VEVENT
BEGIN:VEVENT
DTSTART;TZID=UTC:20250625T120000
DTEND;TZID=UTC:20250625T120000
DTSTAMP:20260423T155413
CREATED:20250525T192244Z
LAST-MODIFIED:20250525T192244Z
UID:552-1750852800-1750852800@www.clevelandshetlandsheepdogclub.com
SUMMARY:AKC National Owner-Handled Series Entry Cut-off date
DESCRIPTION:This is the final date to enter for the AKC Owner-Handled Series\nInformation & Entry Form\nAKC National Owner-Handled Series\n(Remember to check the box near the bottom of the entry form)\nThe AKC National Owner-Handled Series is a non-titling competition for dogs that are exhibited by their\nowners that are not professional handlers.\nExhibitors must declare their dog is Owner-Handled eligible at the time of entry on the entry form.\nDogs entered in the Amateur-Owner-Handler class will automatically be marked as eligible to compete\nin the NOHS.\nEligible dogs will be identified by an asterisk in the judge’s book\, steward’s book & the catalog. Dogs must\nbe handled throughout the breed level competition for the regular show by an eligible owner.\nProfessional handlers*\, household members and current assistants** to professional handlers may not\nexhibit the dog in any NOHS competition during the entire show. For a detailed description of the National\nOwner-Handled Series\, please visit the AKC website NOHS pages at: \nNational Owner-Handled Series \n\n*Professional handlers are defined as any person who belongs or has belonged to a professional handlers’\norganization\, distributed rate cards\, or otherwise advertised or represented themselves as handling dogs\nfor pay within the last five years.\n**A current assistant is defined as anyone employed by a professional handler on a full-time basis or\nassisting a professional handler at the show or any time during the cluster/weekend. Current assistants\nthat are eligible to compete in Junior Showmanship (meet age & amateur status requirements) may\nparticipate in NOHS.
URL:https://www.clevelandshetlandsheepdogclub.com/event/akc-national-owner-handled-series-entry-cut-off-date/
LOCATION:Bill Stanton Community Park\, 5585 Chapel Rd\, Madison\, OH\, 44057\, United States
CATEGORIES:AKC National Owner-Handled Series,Entry Date
ORGANIZER;CN="Cleveland Shetland Sheepdog Club":MAILTO:csscakc@gmail.com
END:VEVENT
BEGIN:VEVENT
DTSTART;TZID=UTC:20250606T070000
DTEND;TZID=UTC:20250608T190000
DTSTAMP:20260423T155413
CREATED:20250504T220627Z
LAST-MODIFIED:20250504T220627Z
UID:521-1749193200-1749409200@www.clevelandshetlandsheepdogclub.com
SUMMARY:AKC Licensed Herding Tests and Trials
DESCRIPTION:Herding 2025 \n 
URL:https://www.clevelandshetlandsheepdogclub.com/event/akc-licensed-herding-tests-and-trials/
LOCATION:Hado-bar Farm\, 324 County Road 1171\, Nova\, OH\, 44859\, United States
CATEGORIES:Herding
END:VEVENT
END:VCALENDAR